BEGIN:VCALENDAR
VERSION:2.0
PRODID:-//eventon.com NONSGML v1.0//EN
BEGIN:VEVENT
UID:69e7723ab7d7b
DTSTAMP:20260421T194858
DTSTART:20180411T100000Z
DTEND:20180411T130000Z
LOCATION:Sea Grain Restaurant Jl. Pegangsaan Timur No.17\,  RT.1/RW.1\,  Cikini\,  Menteng\,  Kota Jakarta Pusat\,  Daerah Khusus Ibukota Jakarta 10310
SUMMARY:Perca Indonesia Anniversary
DESCRIPTION: Perca Indonesia Anniversary
URL:https://percaindonesia.com/events/perca-indonesia-anniversary/
END:VEVENT
END:VCALENDAR