BEGIN:VCALENDAR
VERSION:2.0
PRODID:-//eventon.com NONSGML v1.0//EN
BEGIN:VEVENT
UID:69e745d3bf360
DTSTAMP:20260421T163931
DTSTART:20190217T090000Z
DTEND:20190217T130000Z
LOCATION:Golden Palace Hotel Jalan Sriwijaya No.38\,  Sapta Marga\,  Cakranegara\,  Kota Mataram\,  Nusa Tenggara Bar. 83232
SUMMARY:MEMBERS GATHERING DAN PERESMIAN PERWAKILAN PERCA LOMBOK
DESCRIPTION: MEMBERS GATHERING DAN PERESMIAN PERWAKILAN PERCA LOMBOK
URL:https://percaindonesia.com/events/members-gathering-dan-peresmian-perwakilan-perca-lombok/
END:VEVENT
END:VCALENDAR