BEGIN:VCALENDAR
VERSION:2.0
PRODID:-//eventon.com NONSGML v1.0//EN
BEGIN:VEVENT
UID:69e4d5a5e3332
DTSTAMP:20260419T201621
DTSTART:20150528T100000Z
DTEND:20150528T130000Z
LOCATION:
SUMMARY:Morning Talk Perca Indonesia @ Bali
DESCRIPTION: 
URL:https://percaindonesia.com/events/morning-talk-perca-indonesia-bali/
END:VEVENT
END:VCALENDAR