BEGIN:VCALENDAR
VERSION:2.0
PRODID:-//eventon.com NONSGML v1.0//EN
BEGIN:VEVENT
UID:69e80779f41d2
DTSTAMP:20260422T062546
DTSTART:20210301T170000Z
DTEND:20210301T190000Z
TZID:Asia/Jakarta
LOCATION:
SUMMARY:Webinar "Perjanjian Kawin bagi Keluarga Perkawinan Campuran"
DESCRIPTION: 
URL:https://percaindonesia.com/events/webinar-perjanjian-kawin-bagi-keluarga-perkawinan-campuran/
END:VEVENT
END:VCALENDAR