BEGIN:VCALENDAR
VERSION:2.0
PRODID:-//eventon.com NONSGML v1.0//EN
BEGIN:VEVENT
UID:69e807a89eda2
DTSTAMP:20260422T062632
DTSTART:20220223T190000Z
DTEND:20220223T210000Z
TZID:Asia/Jakarta
LOCATION:
SUMMARY:Sosialisasi BPJS Kesehatan Bagi Keluarga Perkawinan Campur
DESCRIPTION: Sosialisasi BPJS Kesehatan Bagi Keluarga Perkawinan Campur
URL:https://percaindonesia.com/events/sosialisasi-bpjs-kesehatan-bagi-keluarga-perkawinan-campur/var/event_access
END:VEVENT
END:VCALENDAR