BEGIN:VCALENDAR
VERSION:2.0
PRODID:-//eventon.com NONSGML v1.0//EN
BEGIN:VEVENT
UID:69e8077a05c18
DTSTAMP:20260422T062546
DTSTART:20250216T120000Z
DTEND:20250216T140000Z
TZID:Asia/Jakarta
LOCATION:MONTANA PREMIER SENGGIGI Jl. Raya Senggigi No.KM 12\,  Senggigi\,  Kec. Batu Layar\,  Kabupaten Lombok Barat\,  Nusa Tenggara Bar. 83355
SUMMARY:Anniversary PerCa Lombok Ke-6
DESCRIPTION: Anniversary PerCa Lombok Ke-6
URL:https://percaindonesia.com/events/anniversary-perca-lombok-ke-6/
END:VEVENT
END:VCALENDAR